BEGIN:VCALENDAR
VERSION:2.0
PRODID:-//Instructor Home - ECPv6.8.3//NONSGML v1.0//EN
CALSCALE:GREGORIAN
METHOD:PUBLISH
X-ORIGINAL-URL:https://instructorhome.net
X-WR-CALDESC:Events for Instructor Home
REFRESH-INTERVAL;VALUE=DURATION:PT1H
X-Robots-Tag:noindex
X-PUBLISHED-TTL:PT1H
BEGIN:VTIMEZONE
TZID:UTC
BEGIN:STANDARD
TZOFFSETFROM:+0000
TZOFFSETTO:+0000
TZNAME:UTC
DTSTART:20250101T000000
END:STANDARD
END:VTIMEZONE
BEGIN:VEVENT
DTSTART;VALUE=DATE:20250510
DTEND;VALUE=DATE:20250511
DTSTAMP:20260419T180125
CREATED:20240927T163204Z
LAST-MODIFIED:20241028T025912Z
UID:2240-1746835200-1746921599@instructorhome.net
SUMMARY:Digital Scavenger Hunt
DESCRIPTION:Join the digital scavenger hunt! Find hidden items around your house that match our tech clues and show them off on camera.
URL:https://instructorhome.net/event/digital-scavenger-hunt/
LOCATION:Zoom
CATEGORIES:Arts & Crafts,Fun
ATTACH;FMTTYPE=image/png:https://instructorhome.net/wp-content/uploads/2025/08/For-kids-in-AMerica-asia-europe-AUSTRALIA-19.png
END:VEVENT
END:VCALENDAR